Package: TnT
Version: 1.29.0
Command: rm -rf TnT.buildbin-libdir && mkdir TnT.buildbin-libdir && /Users/biocbuild/BBS/utils/build-universal.sh TnT_1.29.0.tar.gz /Library/Frameworks/R.framework/Resources/bin/R TnT.buildbin-libdir
StartedAt: 2025-02-20 00:59:02 -0500 (Thu, 20 Feb 2025)
EndedAt: 2025-02-20 00:59:23 -0500 (Thu, 20 Feb 2025)
EllapsedTime: 21.1 seconds
RetCode: 0
Status: OK
PackageFile: TnT_1.29.0.tgz
PackageFileSize: 530.4 <A href="http://en.wikipedia.org/wiki/KiB" target="_blank">KiB</A>