Package: TileDBArray Version: 1.17.0 Command: rm -rf TileDBArray.buildbin-libdir && mkdir TileDBArray.buildbin-libdir && E:\biocbuild\bbs-3.21-bioc\R\bin\R.exe CMD INSTALL --build --library=TileDBArray.buildbin-libdir TileDBArray_1.17.0.tar.gz StartedAt: 2025-02-05 09:05:26 -0500 (Wed, 05 Feb 2025) EndedAt: 2025-02-05 09:06:14 -0500 (Wed, 05 Feb 2025) EllapsedTime: 48.4 seconds RetCode: 0 Status: OK PackageFile: TileDBArray_1.17.0.zip PackageFileSize: 751.3 KiB