Package: TileDBArray Version: 1.17.0 Command: /home/biocbuild/R/R/bin/R CMD INSTALL TileDBArray StartedAt: 2025-01-29 19:41:25 -0000 (Wed, 29 Jan 2025) EndedAt: 2025-01-29 19:41:28 -0000 (Wed, 29 Jan 2025) EllapsedTime: 3.1 seconds RetCode: 1 Status: ERROR