Package: TileDBArray Version: 1.17.0 Command: /Library/Frameworks/R.framework/Resources/bin/R CMD build --keep-empty-dirs --no-resave-data TileDBArray StartedAt: 2025-02-04 17:49:09 -0500 (Tue, 04 Feb 2025) EndedAt: 2025-02-04 17:49:22 -0500 (Tue, 04 Feb 2025) EllapsedTime: 13.1 seconds RetCode: 0 Status: OK PackageFile: TileDBArray_1.17.0.tar.gz PackageFileSize: 305 KiB