Package: TargetDecoy
Version: 1.13.0
Command: /home/biocbuild/bbs-3.21-bioc/R/bin/R CMD INSTALL TargetDecoy
StartedAt: 2025-02-19 15:22:23 -0500 (Wed, 19 Feb 2025)
EndedAt: 2025-02-19 15:22:31 -0500 (Wed, 19 Feb 2025)
EllapsedTime: 8.2 seconds
RetCode: 0
Status: OK