Package: TargetDecoy
Version: 1.13.0
Command: /home/biocbuild/bbs-3.21-bioc/R/bin/R CMD build --keep-empty-dirs --no-resave-data TargetDecoy
StartedAt: 2025-02-19 19:30:07 -0500 (Wed, 19 Feb 2025)
EndedAt: 2025-02-19 19:30:40 -0500 (Wed, 19 Feb 2025)
EllapsedTime: 33.0 seconds
RetCode: 0
Status: OK
PackageFile: TargetDecoy_1.13.0.tar.gz
PackageFileSize: 4.094 <A href="http://en.wikipedia.org/wiki/MiB" target="_blank">MiB</A>