Package: TargetDecoy
Version: 1.13.0
Command: /home/biocbuild/R/R/bin/R CMD build --keep-empty-dirs --no-resave-data TargetDecoy
StartedAt: 2025-01-28 02:52:05 -0000 (Tue, 28 Jan 2025)
EndedAt: 2025-01-28 02:52:57 -0000 (Tue, 28 Jan 2025)
EllapsedTime: 52.0 seconds
RetCode: 0
Status: OK
PackageFile: TargetDecoy_1.13.0.tar.gz
PackageFileSize: 3.735 <A href="http://en.wikipedia.org/wiki/MiB" target="_blank">MiB</A>