Package: TRESS
Version: 1.13.0
Command: /home/biocbuild/bbs-3.21-bioc/R/bin/R CMD check --install=check:TRESS.install-out.txt --library=/home/biocbuild/bbs-3.21-bioc/R/site-library --timings TRESS_1.13.0.tar.gz
StartedAt: 2025-02-20 03:21:39 -0500 (Thu, 20 Feb 2025)
EndedAt: 2025-02-20 03:26:05 -0500 (Thu, 20 Feb 2025)
EllapsedTime: 266.4 seconds
RetCode: 0
Status: OK
CheckDir: TRESS.Rcheck
Warnings: 0