Package: TPP Version: 3.35.0 Command: E:\biocbuild\bbs-3.21-bioc\R\bin\R.exe CMD INSTALL TPP StartedAt: 2025-02-19 16:52:25 -0500 (Wed, 19 Feb 2025) EndedAt: 2025-02-19 16:53:16 -0500 (Wed, 19 Feb 2025) EllapsedTime: 51.5 seconds RetCode: 0 Status: OK