Package: TPP Version: 3.35.0 Command: E:\biocbuild\bbs-3.21-bioc\R\bin\R.exe CMD check --no-multiarch --install=check:TPP.install-out.txt --library=E:\biocbuild\bbs-3.21-bioc\R\library --no-vignettes --timings TPP_3.35.0.tar.gz StartedAt: 2025-02-20 06:19:09 -0500 (Thu, 20 Feb 2025) EndedAt: 2025-02-20 06:31:52 -0500 (Thu, 20 Feb 2025) EllapsedTime: 763.2 seconds RetCode: 0 Status: OK CheckDir: TPP.Rcheck Warnings: 0