Package: TPP
Version: 3.35.0
Command: chmod a+r TPP -R && E:\biocbuild\bbs-3.21-bioc\R\bin\R.exe CMD build --keep-empty-dirs --no-resave-data TPP
StartedAt: 2025-02-19 22:08:08 -0500 (Wed, 19 Feb 2025)
EndedAt: 2025-02-19 22:10:58 -0500 (Wed, 19 Feb 2025)
EllapsedTime: 169.5 seconds
RetCode: 0
Status: OK
PackageFile: TPP_3.35.0.tar.gz
PackageFileSize: 8.438 <A href="http://en.wikipedia.org/wiki/MiB" target="_blank">MiB</A>