Package: TPP
Version: 3.35.0
Command: /home/biocbuild/bbs-3.21-bioc/R/bin/R CMD INSTALL TPP
StartedAt: 2025-02-19 15:13:07 -0500 (Wed, 19 Feb 2025)
EndedAt: 2025-02-19 15:13:22 -0500 (Wed, 19 Feb 2025)
EllapsedTime: 14.8 seconds
RetCode: 0
Status: OK