##############################################################################
##############################################################################
###
### Running command:
###
###   /home/biocbuild/bbs-3.21-bioc/R/bin/R CMD check --install=check:TPP.install-out.txt --library=/home/biocbuild/bbs-3.21-bioc/R/site-library --timings TPP_3.35.0.tar.gz
###
##############################################################################
##############################################################################


* using log directory ‘/home/biocbuild/bbs-3.21-bioc/meat/TPP.Rcheck’
* using R Under development (unstable) (2025-01-20 r87609)
* using platform: x86_64-pc-linux-gnu
* R was compiled by
    gcc (Ubuntu 13.3.0-6ubuntu2~24.04) 13.3.0
    GNU Fortran (Ubuntu 13.3.0-6ubuntu2~24.04) 13.3.0
* running under: Ubuntu 24.04.2 LTS
* using session charset: UTF-8
* checking for file ‘TPP/DESCRIPTION’ ... OK
* checking extension type ... Package
* this is package ‘TPP’ version ‘3.35.0’
* checking package namespace information ... OK
* checking package dependencies ... INFO
Imports includes 24 non-default packages.
Importing from so many packages makes the package vulnerable to any of
them becoming unavailable.  Move as many as possible to Suggests and
use conditionally.
* checking if this is a source package ... OK
* checking if there is a namespace ... OK
* checking for hidden files and directories ... OK
* checking for portable file names ... OK
* checking for sufficient/correct file permissions ... OK
* checking whether package ‘TPP’ can be installed ... OK
* checking installed package size ... INFO
  installed size is 11.2Mb
  sub-directories of 1Mb or more:
    data           1.9Mb
    example_data   6.3Mb
    test_data      2.0Mb
* checking package directory ... OK
* checking ‘build’ directory ... OK
* checking DESCRIPTION meta-information ... OK
* checking top-level files ... OK
* checking for left-over files ... OK
* checking index information ... OK
* checking package subdirectories ... NOTE
Problems with news in ‘NEWS’:
  Cannot process chunk/lines:
    Updated package vignette.
  Cannot process chunk/lines:
    Removed unit test that causes R CMD check to crash  since the latest update of package 'testthat'.
  Cannot process chunk/lines:
    Fixed bug in plotColors for the case when no comparisons are specified
* checking code files for non-ASCII characters ... OK
* checking R files for syntax errors ... OK
* checking whether the package can be loaded ... OK
* checking whether the package can be loaded with stated dependencies ... OK
* checking whether the package can be unloaded cleanly ... OK
* checking whether the namespace can be loaded with stated dependencies ... OK
* checking whether the namespace can be unloaded cleanly ... OK
* checking loading without being on the library search path ... OK
* checking whether startup messages can be suppressed ... OK
* checking dependencies in R code ... NOTE
Namespace in Imports field not imported from: ‘broom’
  All declared Imports should be used.
Unexported objects imported by ':::' calls:
  ‘doParallel:::.options’ ‘mefa:::rep.data.frame’
  See the note in ?`:::` about the use of this operator.
* checking S3 generic/method consistency ... OK
* checking replacement functions ... OK
* checking foreign function calls ... OK
* checking R code for possible problems ... NOTE
File ‘TPP/R/TPP.R’:
  .onLoad calls:
    packageStartupMessage(msgText, "\n")

See section ‘Good practice’ in '?.onAttach'.

fitSigmoidCCR: no visible global function definition for
  ‘capture.output’
modelSelector: no visible binding for global variable ‘testHypothesis’
modelSelector: no visible binding for global variable ‘fitMetric’
modelSelector: no visible binding for global variable ‘minMetric’
plot_fSta_distribution: no visible binding for global variable
  ‘density’
plot_pVal_distribution: no visible binding for global variable
  ‘..density..’
tpp2dCreateTPPTRreference: no visible binding for global variable
  ‘meltcurve_plot’
tpp2dCreateTPPTRreference: no visible binding for global variable
  ‘Protein_ID’
tpp2dExport: no visible binding for global variable ‘temperature’
tpp2dImport: no visible binding for global variable ‘temperature’
tpp2dNormalize: no visible binding for global variable ‘temperature’
Undefined global functions or variables:
  ..density.. Protein_ID capture.output density fitMetric
  meltcurve_plot minMetric temperature testHypothesis
Consider adding
  importFrom("stats", "density")
  importFrom("utils", "capture.output")
to your NAMESPACE file.
* checking Rd files ... NOTE
checkRd: (-1) analyzeTPPTR.Rd:146-147: Lost braces in \itemize; meant \describe ?
checkRd: (-1) analyzeTPPTR.Rd:148: Lost braces in \itemize; meant \describe ?
checkRd: (-1) analyzeTPPTR.Rd:149: Lost braces in \itemize; meant \describe ?
checkRd: (-1) hdacCCR_data.Rd:32: Lost braces in \itemize; meant \describe ?
checkRd: (-1) hdacCCR_data.Rd:33: Lost braces in \itemize; meant \describe ?
checkRd: (-1) hdacTR_data.Rd:33: Lost braces in \itemize; meant \describe ?
checkRd: (-1) hdacTR_data.Rd:34: Lost braces in \itemize; meant \describe ?
checkRd: (-1) hdacTR_data.Rd:35: Lost braces in \itemize; meant \describe ?
checkRd: (-1) hdacTR_data.Rd:36: Lost braces in \itemize; meant \describe ?
checkRd: (-1) tppccrCurveFit.Rd:42: Lost braces
    42 |   code{featureData(S)}.
       |       ^
checkRd: (-1) tppccrImport.Rd:71-72: Lost braces in \itemize; meant \describe ?
checkRd: (-1) tppccrImport.Rd:73: Lost braces in \itemize; meant \describe ?
checkRd: (-1) tppccrPlotCurves.Rd:45: Lost braces
    45 |   produced plots are stored in code{featureData(S)$plot}.
       |                                    ^
checkRd: (-1) tpptrImport.Rd:76-77: Lost braces in \itemize; meant \describe ?
checkRd: (-1) tpptrImport.Rd:78: Lost braces in \itemize; meant \describe ?
checkRd: (-1) tpptrImport.Rd:79: Lost braces in \itemize; meant \describe ?
* checking Rd metadata ... OK
* checking Rd cross-references ... NOTE
Found the following Rd file(s) with Rd \link{} targets missing package
anchors:
  analyze2DTPP.Rd: brewer.pal
  tpp2dCreateDRplots.Rd: brewer.pal
  tpptrFTest.Rd: squeezeVar
  tpptrFitSplines.Rd: AICc
  tpptrPlotSplines.Rd: AICc
  tpptrSplineFitAndTest.Rd: AICc
Please provide package anchors for all Rd \link{} targets not in the
package itself and the base packages.
* checking for missing documentation entries ... OK
* checking for code/documentation mismatches ... OK
* checking Rd \usage sections ... OK
* checking Rd contents ... OK
* checking for unstated dependencies in examples ... OK
* checking contents of ‘data’ directory ... OK
* checking data for non-ASCII characters ... OK
* checking data for ASCII and uncompressed saves ... OK
* checking files in ‘vignettes’ ... OK
* checking examples ... OK
Examples with CPU (user + system) or elapsed time > 5s
                                 user system elapsed
analyzeTPPTR                   37.153  0.263  37.433
tpptrSplineFitAndTest          16.657  0.172  16.826
tpp2dSplineFitAndTest          10.695  0.175  10.869
tppQCPlotsCorrelateExperiments 10.469  0.103  10.575
tpp2dCreateDRplots              9.803  0.401  10.204
tpptrPlotSplines                9.400  0.152   9.554
tpptrFTest                      9.407  0.099   9.499
tpp2dMerge2dRef                 5.485  0.261   5.746
tppccrPlotCurves                5.401  0.172   5.570
tpp2dCurveFit                   5.102  0.107   5.208
* checking for unstated dependencies in ‘tests’ ... OK
* checking tests ...
  Running ‘testthat.R’
 OK
* checking for unstated dependencies in vignettes ... OK
* checking package vignettes ... OK
* checking re-building of vignette outputs ... OK
* checking PDF version of manual ... OK
* DONE

Status: 5 NOTEs
See
  ‘/home/biocbuild/bbs-3.21-bioc/meat/TPP.Rcheck/00check.log’
for details.