Package: TPP
Version: 3.35.0
Command: /home/biocbuild/bbs-3.21-bioc/R/bin/R CMD build --keep-empty-dirs --no-resave-data TPP
StartedAt: 2025-02-19 19:34:20 -0500 (Wed, 19 Feb 2025)
EndedAt: 2025-02-19 19:35:48 -0500 (Wed, 19 Feb 2025)
EllapsedTime: 88.2 seconds
RetCode: 0
Status: OK
PackageFile: TPP_3.35.0.tar.gz
PackageFileSize: 8.429 <A href="http://en.wikipedia.org/wiki/MiB" target="_blank">MiB</A>