Package: TMSig
Version: 1.1.0
Command: /home/biocbuild/bbs-3.21-bioc/R/bin/R CMD INSTALL TMSig
StartedAt: 2025-02-19 15:28:48 -0500 (Wed, 19 Feb 2025)
EndedAt: 2025-02-19 15:29:08 -0500 (Wed, 19 Feb 2025)
EllapsedTime: 20.3 seconds
RetCode: 0
Status: OK