Package: TMSig Version: 1.1.0 Command: /home/biocbuild/bbs-3.21-bioc/R/bin/R CMD check --install=check:TMSig.install-out.txt --library=/home/biocbuild/bbs-3.21-bioc/R/site-library --timings TMSig_1.1.0.tar.gz StartedAt: 2025-02-20 03:14:40 -0500 (Thu, 20 Feb 2025) EndedAt: 2025-02-20 03:17:33 -0500 (Thu, 20 Feb 2025) EllapsedTime: 172.3 seconds RetCode: 0 Status: OK CheckDir: TMSig.Rcheck Warnings: 0