Package: TMSig
Version: 1.1.0
Command: /home/biocbuild/bbs-3.21-bioc/R/bin/R CMD build --keep-empty-dirs --no-resave-data TMSig
StartedAt: 2025-02-19 19:33:46 -0500 (Wed, 19 Feb 2025)
EndedAt: 2025-02-19 19:34:33 -0500 (Wed, 19 Feb 2025)
EllapsedTime: 47.1 seconds
RetCode: 0
Status: OK
PackageFile: TMSig_1.1.0.tar.gz
PackageFileSize: 3.863 <A href="http://en.wikipedia.org/wiki/MiB" target="_blank">MiB</A>