Package: TMSig
Version: 1.1.0
Command: /Library/Frameworks/R.framework/Resources/bin/R CMD INSTALL TMSig
StartedAt: 2025-02-19 15:18:23 -0500 (Wed, 19 Feb 2025)
EndedAt: 2025-02-19 15:18:51 -0500 (Wed, 19 Feb 2025)
EllapsedTime: 28.3 seconds
RetCode: 0
Status: OK