Package: TMSig
Version: 1.1.0
Command: /Library/Frameworks/R.framework/Resources/bin/R CMD check --install=check:TMSig.install-out.txt --library=/Library/Frameworks/R.framework/Resources/library --no-vignettes --timings TMSig_1.1.0.tar.gz
StartedAt: 2025-02-19 23:47:29 -0500 (Wed, 19 Feb 2025)
EndedAt: 2025-02-19 23:50:14 -0500 (Wed, 19 Feb 2025)
EllapsedTime: 164.2 seconds
RetCode: 0
Status: OK
CheckDir: TMSig.Rcheck
Warnings: 0