Package: TMSig Version: 1.1.0 Command: rm -rf TMSig.buildbin-libdir && mkdir TMSig.buildbin-libdir && /Users/biocbuild/BBS/utils/build-universal.sh TMSig_1.1.0.tar.gz /Library/Frameworks/R.framework/Resources/bin/R TMSig.buildbin-libdir StartedAt: 2025-02-20 00:58:57 -0500 (Thu, 20 Feb 2025) EndedAt: 2025-02-20 00:59:29 -0500 (Thu, 20 Feb 2025) EllapsedTime: 31.5 seconds RetCode: 0 Status: OK PackageFile: TMSig_1.1.0.tgz PackageFileSize: 3.469 <A href="http://en.wikipedia.org/wiki/MiB" target="_blank">MiB</A>