Package: TMSig
Version: 1.1.0
Command: /home/biocbuild/R/R/bin/R CMD INSTALL TMSig
StartedAt: 2025-01-29 20:01:37 -0000 (Wed, 29 Jan 2025)
EndedAt: 2025-01-29 20:02:07 -0000 (Wed, 29 Jan 2025)
EllapsedTime: 29.5 seconds
RetCode: 0
Status: OK