Package: TMSig
Version: 1.1.0
Command: /home/biocbuild/R/R/bin/R CMD check --install=check:TMSig.install-out.txt --library=/home/biocbuild/R/R/site-library --no-vignettes --timings TMSig_1.1.0.tar.gz
StartedAt: 2025-01-28 16:11:39 -0000 (Tue, 28 Jan 2025)
EndedAt: 2025-01-28 16:15:55 -0000 (Tue, 28 Jan 2025)
EllapsedTime: 255.4 seconds
RetCode: 0
Status: OK
CheckDir: TMSig.Rcheck
Warnings: 0