Package: TMSig
Version: 1.1.0
Command: /home/biocbuild/R/R/bin/R CMD build --keep-empty-dirs --no-resave-data TMSig
StartedAt: 2025-01-28 02:56:54 -0000 (Tue, 28 Jan 2025)
EndedAt: 2025-01-28 02:58:10 -0000 (Tue, 28 Jan 2025)
EllapsedTime: 76.0 seconds
RetCode: 0
Status: OK
PackageFile: TMSig_1.1.0.tar.gz
PackageFileSize: 2.999 <A href="http://en.wikipedia.org/wiki/MiB" target="_blank">MiB</A>