Package: TMSig
Version: 1.1.0
Command: /Library/Frameworks/R.framework/Resources/bin/R CMD check --install=check:TMSig.install-out.txt --library=/Library/Frameworks/R.framework/Resources/library --no-vignettes --timings TMSig_1.1.0.tar.gz
StartedAt: 2025-02-19 21:53:23 -0500 (Wed, 19 Feb 2025)
EndedAt: 2025-02-19 21:54:21 -0500 (Wed, 19 Feb 2025)
EllapsedTime: 57.8 seconds
RetCode: 0
Status: OK
CheckDir: TMSig.Rcheck
Warnings: 0