Package: TFEA.ChIP
Version: 1.27.0
Maintainer: Laura Puente Santamaría
MaintainerEmail: lpsantamaria at iib.uam.es
git_url: https://git.bioconductor.org/packages/TFEA.ChIP
git_branch: devel
git_last_commit: 34b5d7e
git_last_commit_date: 2024-10-29 10:24:34 -0500 (Tue, 29 Oct 2024)