Package: TEKRABber Version: 1.11.0 Command: /Library/Frameworks/R.framework/Resources/bin/R CMD INSTALL TEKRABber StartedAt: 2025-01-31 15:22:17 -0500 (Fri, 31 Jan 2025) EndedAt: 2025-01-31 15:23:08 -0500 (Fri, 31 Jan 2025) EllapsedTime: 51.3 seconds RetCode: 0 Status: OK