Package: TEKRABber Version: 1.11.0 Command: rm -rf TEKRABber.buildbin-libdir && mkdir TEKRABber.buildbin-libdir && /Users/biocbuild/BBS/utils/build-universal.sh TEKRABber_1.11.0.tar.gz /Library/Frameworks/R.framework/Resources/bin/R TEKRABber.buildbin-libdir StartedAt: 2025-02-01 00:43:01 -0500 (Sat, 01 Feb 2025) EndedAt: 2025-02-01 00:43:55 -0500 (Sat, 01 Feb 2025) EllapsedTime: 53.8 seconds RetCode: 0 Status: OK PackageFile: TEKRABber_1.11.0.tgz PackageFileSize: 3.388 MiB