Package: TCGAbiolinks Version: 2.35.3 Command: E:\biocbuild\bbs-3.21-bioc\R\bin\R.exe CMD check --no-multiarch --install=check:TCGAbiolinks.install-out.txt --library=E:\biocbuild\bbs-3.21-bioc\R\library --no-vignettes --timings TCGAbiolinks_2.35.3.tar.gz StartedAt: 2025-02-20 06:09:09 -0500 (Thu, 20 Feb 2025) EndedAt: 2025-02-20 06:19:30 -0500 (Thu, 20 Feb 2025) EllapsedTime: 621.5 seconds RetCode: 0 Status: WARNINGS CheckDir: TCGAbiolinks.Rcheck Warnings: 2