Package: TCGAbiolinks Version: 2.35.3 Command: chmod a+r TCGAbiolinks -R && E:\biocbuild\bbs-3.21-bioc\R\bin\R.exe CMD build --keep-empty-dirs --no-resave-data TCGAbiolinks StartedAt: 2025-02-19 22:03:09 -0500 (Wed, 19 Feb 2025) EndedAt: 2025-02-19 22:11:11 -0500 (Wed, 19 Feb 2025) EllapsedTime: 481.7 seconds RetCode: 0 Status: OK PackageFile: TCGAbiolinks_2.35.3.tar.gz PackageFileSize: 62.98 <A href="http://en.wikipedia.org/wiki/MiB" target="_blank">MiB</A>