Package: TCGAbiolinks Version: 2.35.3 Command: rm -rf TCGAbiolinks.buildbin-libdir && mkdir TCGAbiolinks.buildbin-libdir && E:\biocbuild\bbs-3.21-bioc\R\bin\R.exe CMD INSTALL --build --library=TCGAbiolinks.buildbin-libdir TCGAbiolinks_2.35.3.tar.gz StartedAt: 2025-02-20 08:54:58 -0500 (Thu, 20 Feb 2025) EndedAt: 2025-02-20 08:56:41 -0500 (Thu, 20 Feb 2025) EllapsedTime: 103.2 seconds RetCode: 0 Status: OK PackageFile: TCGAbiolinks_2.35.3.zip PackageFileSize: 61.65 <A href="http://en.wikipedia.org/wiki/MiB" target="_blank">MiB</A>