Package: TCGAbiolinks
Version: 2.35.3
Command: /home/biocbuild/bbs-3.21-bioc/R/bin/R CMD build --keep-empty-dirs --no-resave-data TCGAbiolinks
StartedAt: 2025-02-19 19:30:40 -0500 (Wed, 19 Feb 2025)
EndedAt: 2025-02-19 19:35:39 -0500 (Wed, 19 Feb 2025)
EllapsedTime: 299.8 seconds
RetCode: 0
Status: OK
PackageFile: TCGAbiolinks_2.35.3.tar.gz
PackageFileSize: 63.76 <A href="http://en.wikipedia.org/wiki/MiB" target="_blank">MiB</A>