Package: SwathXtend
Version: 2.29.0
Command: /home/biocbuild/R/R/bin/R CMD INSTALL SwathXtend
StartedAt: 2025-01-29 20:31:34 -0000 (Wed, 29 Jan 2025)
EndedAt: 2025-01-29 20:31:39 -0000 (Wed, 29 Jan 2025)
EllapsedTime: 5.1 seconds
RetCode: 0
Status: OK