Package: SwathXtend
Version: 2.29.0
Command: /home/biocbuild/R/R/bin/R CMD check --install=check:SwathXtend.install-out.txt --library=/home/biocbuild/R/R/site-library --no-vignettes --timings SwathXtend_2.29.0.tar.gz
StartedAt: 2025-01-28 15:56:57 -0000 (Tue, 28 Jan 2025)
EndedAt: 2025-01-28 15:59:10 -0000 (Tue, 28 Jan 2025)
EllapsedTime: 133.2 seconds
RetCode: 0
Status: OK
CheckDir: SwathXtend.Rcheck
Warnings: 0