Package: SwathXtend
Version: 2.29.0
Command: /home/biocbuild/R/R/bin/R CMD build --keep-empty-dirs --no-resave-data SwathXtend
StartedAt: 2025-01-28 02:49:29 -0000 (Tue, 28 Jan 2025)
EndedAt: 2025-01-28 02:54:13 -0000 (Tue, 28 Jan 2025)
EllapsedTime: 283.1 seconds
RetCode: 0
Status: OK
PackageFile: SwathXtend_2.29.0.tar.gz
PackageFileSize: 346.4 <A href="http://en.wikipedia.org/wiki/MiB" target="_blank">MiB</A>