Package: SwathXtend Version: 2.29.0 Command: /Library/Frameworks/R.framework/Resources/bin/R CMD INSTALL SwathXtend StartedAt: 2025-02-19 15:27:02 -0500 (Wed, 19 Feb 2025) EndedAt: 2025-02-19 15:27:04 -0500 (Wed, 19 Feb 2025) EllapsedTime: 2.1 seconds RetCode: 0 Status: OK