Package: SwathXtend Version: 2.29.0 Command: /Library/Frameworks/R.framework/Resources/bin/R CMD check --install=check:SwathXtend.install-out.txt --library=/Library/Frameworks/R.framework/Resources/library --no-vignettes --timings SwathXtend_2.29.0.tar.gz StartedAt: 2025-02-19 21:47:30 -0500 (Wed, 19 Feb 2025) EndedAt: 2025-02-19 21:48:08 -0500 (Wed, 19 Feb 2025) EllapsedTime: 37.4 seconds RetCode: 0 Status: OK CheckDir: SwathXtend.Rcheck Warnings: 0