Package: SwathXtend
Version: 2.29.0
Command: /Library/Frameworks/R.framework/Resources/bin/R CMD build --keep-empty-dirs --no-resave-data SwathXtend
StartedAt: 2025-02-19 17:46:53 -0500 (Wed, 19 Feb 2025)
EndedAt: 2025-02-19 17:48:23 -0500 (Wed, 19 Feb 2025)
EllapsedTime: 90.0 seconds
RetCode: 0
Status: OK
PackageFile: SwathXtend_2.29.0.tar.gz
PackageFileSize: 346.3 <A href="http://en.wikipedia.org/wiki/MiB" target="_blank">MiB</A>