Package: SwathXtend Version: 2.29.0 Command: rm -rf SwathXtend.buildbin-libdir && mkdir SwathXtend.buildbin-libdir && /Users/biocbuild/BBS/utils/build-universal.sh SwathXtend_2.29.0.tar.gz /Library/Frameworks/R.framework/Resources/bin/R SwathXtend.buildbin-libdir StartedAt: 2025-02-19 22:40:40 -0500 (Wed, 19 Feb 2025) EndedAt: 2025-02-19 22:40:57 -0500 (Wed, 19 Feb 2025) EllapsedTime: 16.4 seconds RetCode: 0 Status: OK PackageFile: SwathXtend_2.29.0.tgz PackageFileSize: 346.6 <A href="http://en.wikipedia.org/wiki/MiB" target="_blank">MiB</A>