Package: Summix Version: 2.13.0 Command: /home/biocbuild/bbs-3.21-bioc/R/bin/R CMD INSTALL Summix StartedAt: 2025-02-04 15:07:29 -0500 (Tue, 04 Feb 2025) EndedAt: 2025-02-04 15:07:38 -0500 (Tue, 04 Feb 2025) EllapsedTime: 9.6 seconds RetCode: 0 Status: OK