Package: Summix Version: 2.13.0 Command: /home/biocbuild/bbs-3.21-bioc/R/bin/R CMD build --keep-empty-dirs --no-resave-data Summix StartedAt: 2025-02-04 19:28:32 -0500 (Tue, 04 Feb 2025) EndedAt: 2025-02-04 19:28:45 -0500 (Tue, 04 Feb 2025) EllapsedTime: 13.0 seconds RetCode: 0 Status: OK PackageFile: Summix_2.13.0.tar.gz PackageFileSize: 1.254 MiB