Package: Summix Version: 2.13.0 Command: /Library/Frameworks/R.framework/Resources/bin/R CMD build --keep-empty-dirs --no-resave-data Summix StartedAt: 2025-02-04 17:45:33 -0500 (Tue, 04 Feb 2025) EndedAt: 2025-02-04 17:45:39 -0500 (Tue, 04 Feb 2025) EllapsedTime: 6.1 seconds RetCode: 0 Status: OK PackageFile: Summix_2.13.0.tar.gz PackageFileSize: 1.254 MiB