Package: Structstrings
Version: 1.23.1
Command: /Library/Frameworks/R.framework/Resources/bin/R CMD INSTALL Structstrings
StartedAt: 2025-02-19 15:05:06 -0500 (Wed, 19 Feb 2025)
EndedAt: 2025-02-19 15:05:14 -0500 (Wed, 19 Feb 2025)
EllapsedTime: 7.8 seconds
RetCode: 0
Status: OK