Package: Structstrings
Version: 1.23.1
Command: /Library/Frameworks/R.framework/Resources/bin/R CMD check --install=check:Structstrings.install-out.txt --library=/Library/Frameworks/R.framework/Resources/library --no-vignettes --timings Structstrings_1.23.1.tar.gz
StartedAt: 2025-02-19 21:45:15 -0500 (Wed, 19 Feb 2025)
EndedAt: 2025-02-19 21:46:17 -0500 (Wed, 19 Feb 2025)
EllapsedTime: 62.7 seconds
RetCode: 0
Status: OK
CheckDir: Structstrings.Rcheck
Warnings: 0