Package: Structstrings
Version: 1.23.1
Command: /Library/Frameworks/R.framework/Resources/bin/R CMD build --keep-empty-dirs --no-resave-data Structstrings
StartedAt: 2025-02-19 17:46:01 -0500 (Wed, 19 Feb 2025)
EndedAt: 2025-02-19 17:46:13 -0500 (Wed, 19 Feb 2025)
EllapsedTime: 11.1 seconds
RetCode: 0
Status: OK
PackageFile: Structstrings_1.23.1.tar.gz
PackageFileSize: 366.8 <A href="http://en.wikipedia.org/wiki/KiB" target="_blank">KiB</A>