Package: Structstrings
Version: 1.23.1
Maintainer: Felix G.M. Ernst
MaintainerEmail: felix.gm.ernst at outlook.com
git_url: https://git.bioconductor.org/packages/Structstrings
git_branch: devel
git_last_commit: b17276e
git_last_commit_date: 2024-11-01 19:55:41 -0500 (Fri, 01 Nov 2024)