Package: Streamer
Version: 1.53.0
Maintainer: Martin Morgan
MaintainerEmail: martin.morgan at roswellpark.org
git_url: https://git.bioconductor.org/packages/Streamer
git_branch: devel
git_last_commit: 6658a05
git_last_commit_date: 2024-10-29 09:37:50 -0500 (Tue, 29 Oct 2024)