Package: SpectralTAD Version: 1.23.0 Command: E:\biocbuild\bbs-3.21-bioc\R\bin\R.exe CMD check --no-multiarch --install=check:SpectralTAD.install-out.txt --library=E:\biocbuild\bbs-3.21-bioc\R\library --no-vignettes --timings SpectralTAD_1.23.0.tar.gz StartedAt: 2025-02-05 06:09:44 -0500 (Wed, 05 Feb 2025) EndedAt: 2025-02-05 06:12:04 -0500 (Wed, 05 Feb 2025) EllapsedTime: 139.6 seconds RetCode: 0 Status: OK CheckDir: SpectralTAD.Rcheck Warnings: 0