Package: SpectralTAD
Version: 1.23.0
Command: /home/biocbuild/bbs-3.21-bioc/R/bin/R CMD INSTALL SpectralTAD
StartedAt: 2025-02-19 15:31:00 -0500 (Wed, 19 Feb 2025)
EndedAt: 2025-02-19 15:31:11 -0500 (Wed, 19 Feb 2025)
EllapsedTime: 11.3 seconds
RetCode: 0
Status: OK