Package: SpectralTAD
Version: 1.23.0
Command: /home/biocbuild/bbs-3.21-bioc/R/bin/R CMD build --keep-empty-dirs --no-resave-data SpectralTAD
StartedAt: 2025-02-19 19:22:20 -0500 (Wed, 19 Feb 2025)
EndedAt: 2025-02-19 19:24:02 -0500 (Wed, 19 Feb 2025)
EllapsedTime: 102.1 seconds
RetCode: 0
Status: OK
PackageFile: SpectralTAD_1.23.0.tar.gz
PackageFileSize: 1.491 <A href="http://en.wikipedia.org/wiki/MiB" target="_blank">MiB</A>