Package: SpectralTAD Version: 1.23.0 Command: /Library/Frameworks/R.framework/Resources/bin/R CMD INSTALL SpectralTAD StartedAt: 2025-02-04 15:14:33 -0500 (Tue, 04 Feb 2025) EndedAt: 2025-02-04 15:14:51 -0500 (Tue, 04 Feb 2025) EllapsedTime: 17.9 seconds RetCode: 0 Status: OK